BEGIN:VCALENDAR
VERSION:2.0
PRODID:-//eventon.com NONSGML v1.0//EN
CALSCALE:GREGORIAN
METHOD:PUBLISH
BEGIN:VEVENT
UID:69eb8a9fec6f9
DTSTAMP:20260424T152207Z
DTSTART:20260712
DTEND:20260713
LOCATION:Luddenham Showground Park Road\,  LUDDENHAM NSW 2745
SUMMARY:2026 Winter Woolies
DESCRIPTION:Sunday 12th July 2026 Hosted by: The Pinto Horse Association of
  NSW Inc. Luddenham Showground\,  Park Road\,  LUDDENHAM NSW 2745 Contact D
 etails: nswpinto@gmail.com\nhttps://www.ahsa.asn.au/events/2024-winter-wool
 lies/
URL:https://www.ahsa.asn.au/events/2024-winter-woollies/
END:VEVENT
END:VCALENDAR