BEGIN:VCALENDAR
VERSION:2.0
PRODID:-//eventon.com NONSGML v1.0//EN
CALSCALE:GREGORIAN
METHOD:PUBLISH
BEGIN:VEVENT
UID:69eb8ac004912
DTSTAMP:20260424T152240Z
DTSTART:20261015T190000Z
DTEND:20261018T125900Z
LOCATION:Hawkesbury Showground Racecourse Road
SUMMARY:2026 National Pinto Championships
DESCRIPTION:Friday 16th &#8211; Sunday 18th October 2026 Hosted by: The Pin
 to Horse Association of NSW Inc. Hawkesbury Showground Racecourse Rd\,  Cla
 rendon NSW 2756 Contact Details: nswpinto@gmail.com\nhttps://www.ahsa.asn.a
 u/events/2024-pinto-nationals/
URL:https://www.ahsa.asn.au/events/2024-pinto-nationals/
END:VEVENT
END:VCALENDAR