BEGIN:VCALENDAR
VERSION:2.0
PRODID:-//eventon.com NONSGML v1.0//EN
CALSCALE:GREGORIAN
METHOD:PUBLISH
BEGIN:VEVENT
UID:69eb8aaa6a65d
DTSTAMP:20260424T152218Z
DTSTART:20260926T200000Z
DTEND:20260927T135900Z
LOCATION:Longford Showground 23-47 Hobhouse Street
SUMMARY:Tasmanian Pinto Society Inc. Fun Day
DESCRIPTION:Sunday 27th September 2026 Hosted by: The Tasmanian Pinto Socie
 ty Inc. Longford Showgrounds 123-47 Hobhouse Street\,  Longford TAS 7301 Co
 ntact Details:tasmanianpintosociety@gmail.com\nhttps://www.ahsa.asn.au/even
 ts/tasarabs-fun-day-north/
URL:https://www.ahsa.asn.au/events/tasarabs-fun-day-north/
END:VEVENT
END:VCALENDAR