BEGIN:VCALENDAR
VERSION:2.0
PRODID:-//eventon.com NONSGML v1.0//EN
CALSCALE:GREGORIAN
METHOD:PUBLISH
BEGIN:VEVENT
UID:69e732de412c8
DTSTAMP:20260421T081838Z
DTSTART:20250918T200000Z
DTEND:20250921T135900Z
LOCATION:Maryborough Showgrounds and Equestrian Park 23349 Bruce Highway
SUMMARY:Pacific Coast Arabian Show
DESCRIPTION:Friday 19th\,  Saturday 20th and Sunday 21st September 2025 Hos
 ted by: Mackay &amp; District Arabian Horse Club Inc. Maryborough Showgroun
 ds and Equestrian Park 23349 Bruce Highway\,  MARYBOROUGH WEST QLD 4650 Con
 tact Details: ballykeelarabians@outlook.com\nhttps://www.ahsa.asn.au/events
 /pacific-coast-arabian-show/
URL:https://www.ahsa.asn.au/events/pacific-coast-arabian-show/
END:VEVENT
END:VCALENDAR