BEGIN:VCALENDAR
VERSION:2.0
PRODID:-//eventon.com NONSGML v1.0//EN
CALSCALE:GREGORIAN
METHOD:PUBLISH
BEGIN:VEVENT
UID:69eb8aaa63cda
DTSTAMP:20260424T152218Z
DTSTART:20261003T190000Z
DTEND:20261004T125900Z
LOCATION:Cessnock Showground 111 Mount View Road
SUMMARY:Hunter Valley Arabians - Hack and Breed Show
DESCRIPTION:Sunday 4th October 2026 Hosted by: Hunter Valley Arabians Inc. 
 Cessnock Showground 111 Mount View Rd\,  Cessnock NSW 2325 Contact Details:
  cardiffproduce1@gmail.com\nhttps://www.ahsa.asn.au/events/hunter-valley-ha
 ck-show/
URL:https://www.ahsa.asn.au/events/hunter-valley-hack-show/
END:VEVENT
END:VCALENDAR