BEGIN:VCALENDAR
VERSION:2.0
PRODID:-//eventon.com NONSGML v1.0//EN
CALSCALE:GREGORIAN
METHOD:PUBLISH
BEGIN:VEVENT
UID:69eb8a9084222
DTSTAMP:20260424T152152Z
DTSTART:20260822T200000Z
DTEND:20260823T135900Z
LOCATION:Cessnock Showground 111 Mount View Road
SUMMARY:Hunter Valley Arabians - Hack\,  Breed & Arabian Show
DESCRIPTION:Sunday 23rd August 2026 Hosted by: Hunter Valley Arabians Inc. 
 Cessnock Showground 111 Mount View Rd\,  Cessnock NSW 2325 Contact Details:
  cardiffproduce1@gmail.com\nhttps://www.ahsa.asn.au/events/hunter-valley-ha
 ck-show-copy/
URL:https://www.ahsa.asn.au/events/hunter-valley-hack-show-copy/
END:VEVENT
END:VCALENDAR