BEGIN:VCALENDAR
VERSION:2.0
PRODID:-//eventon.com NONSGML v1.0//EN
CALSCALE:GREGORIAN
METHOD:PUBLISH
BEGIN:VEVENT
UID:69eb8abea8d4b
DTSTAMP:20260424T152238Z
DTSTART:20260530T200000Z
DTEND:20260531T135900Z
LOCATION:Cessnock Showground 111 Mount View Road
SUMMARY:Hunter Valley Arabians - Breed and Youngstock Show
DESCRIPTION:Sunday 31st May 2026 Hosted by: Hunter Valley Arabians Inc. Ces
 snock Showground 111 Mount View Rd\,  Cessnock NSW 2325 Contact Details: c
 ardiffproduce1@gmail.com\nhttps://www.ahsa.asn.au/events/hunter-valley-hack
 -show-2/
URL:https://www.ahsa.asn.au/events/hunter-valley-hack-show-2/
END:VEVENT
END:VCALENDAR