BEGIN:VCALENDAR
VERSION:2.0
PRODID:-//eventon.com NONSGML v1.0//EN
CALSCALE:GREGORIAN
METHOD:PUBLISH
BEGIN:VEVENT
UID:69eb8a906ec4c
DTSTAMP:20260424T152152Z
DTSTART:20261010T190000Z
DTEND:20261011T125900Z
LOCATION:Talunga Park Melrose Street
SUMMARY:SABA Championship Show
DESCRIPTION:Sunday 11th October 2026 Hosted by: South Australian Buckskin A
 ssociation Inc. Talunga Park Melrose Street\,  Mt Pleasant SA 5235 Contact 
 Details: sabuckskinassociation@gmail.com\nhttps://www.ahsa.asn.au/events/sa
 ba-championship-show/
URL:https://www.ahsa.asn.au/events/saba-championship-show/
END:VEVENT
END:VCALENDAR