BEGIN:VCALENDAR
VERSION:2.0
PRODID:-//eventon.com NONSGML v1.0//EN
CALSCALE:GREGORIAN
METHOD:PUBLISH
BEGIN:VEVENT
UID:69eb8aa11105a
DTSTAMP:20260424T152209Z
DTSTART:20261030T190000Z
DTEND:20261031T125900Z
LOCATION:Tatura Park Equestrian Complex 20 Hastie Street
SUMMARY:Victoria Arabian Championships
DESCRIPTION:Saturday 31st October 2026 Hosted by: Victoria Arabian Champion
 ships Inc. Tatura Park Equestrian Centre 20 Hastie Street\,  TATURA VIC  3
 616 Contact Details: victorianarabianchampionships@gmail.com\nhttps://www.a
 hsa.asn.au/events/victorian-arabian-championship/
URL:https://www.ahsa.asn.au/events/victorian-arabian-championship/
END:VEVENT
END:VCALENDAR