BEGIN:VCALENDAR
VERSION:2.0
PRODID:-//eventon.com NONSGML v1.0//EN
CALSCALE:GREGORIAN
METHOD:PUBLISH
BEGIN:VEVENT
UID:69eb8a91ce9aa
DTSTAMP:20260424T152153Z
DTSTART:20260410T200000Z
DTEND:20260411T135900Z
LOCATION:Longford Show Grounds 23-47 Hobhouse Street
SUMMARY:TAS ARABS Inc. Funday
DESCRIPTION:Saturday 11th April 2026 Hosted by: The Tasmanian Arabian Rider
 s and Breeders Inc. Longford Show Grounds 23-47 Hobhouse St\,  Longford TAS
  7301 Contact Details:tasarabs@gmail.com\nhttps://www.ahsa.asn.au/events/ta
 s-arabs-inc-funday/
URL:https://www.ahsa.asn.au/events/tas-arabs-inc-funday/
END:VEVENT
END:VCALENDAR