BEGIN:VCALENDAR
VERSION:2.0
PRODID:-//eventon.com NONSGML v1.0//EN
CALSCALE:GREGORIAN
METHOD:PUBLISH
BEGIN:VEVENT
UID:69eb8aab81991
DTSTAMP:20260424T152219Z
DTSTART:20270206T190000Z
DTEND:20270207T125900Z
LOCATION:Longford Showground 23-47 Hobhouse Street
SUMMARY:Tasmanian Pinto Society Inc. Championships State Show
DESCRIPTION:Sunday 7th February 2027 Hosted by: The Tasmanian Pinto Society
  Inc. Longford Showgrounds 23-47 Hobhouse Street\,  Longford TAS 7301 Conta
 ct Details: tasmanianpintosociety@gmail.com\nhttps://www.ahsa.asn.au/events
 /tasmanian-pinto-society-inc-championships-state-show/
URL:https://www.ahsa.asn.au/events/tasmanian-pinto-society-inc-championships-state-show/
END:VEVENT
END:VCALENDAR