BEGIN:VCALENDAR
VERSION:2.0
PRODID:-//eventon.com NONSGML v1.0//EN
CALSCALE:GREGORIAN
METHOD:PUBLISH
BEGIN:VEVENT
UID:69eb8a9fe447a
DTSTAMP:20260424T152207Z
DTSTART:20261121T190000Z
DTEND:20261122T125900Z
LOCATION:Talunga Park Melrose Street
SUMMARY:SABA Northern Hack and Halter Show
DESCRIPTION:Sunday 22nd November 2026 Hosted by: South Australian Buckskin 
 Association Inc. Talunga Park Melrose Street\,  Mt Pleasant SA 5235 Contact
  Details: sabuckskinassociation@gmail.com\nhttps://www.ahsa.asn.au/events/s
 aba-northern-hack-halter-show-copy/
URL:https://www.ahsa.asn.au/events/saba-northern-hack-halter-show-copy/
END:VEVENT
END:VCALENDAR